BEGIN:VCALENDAR
VERSION:2.0
PRODID:-//Tina &quot;Sweet-T&quot; Pihl for St. Louis Alderwoman - ECPv6.15.20//NONSGML v1.0//EN
CALSCALE:GREGORIAN
METHOD:PUBLISH
X-ORIGINAL-URL:https://tinasweettpihl.com
X-WR-CALDESC:Events for Tina &quot;Sweet-T&quot; Pihl for St. Louis Alderwoman
REFRESH-INTERVAL;VALUE=DURATION:PT1H
X-Robots-Tag:noindex
X-PUBLISHED-TTL:PT1H
BEGIN:VTIMEZONE
TZID:America/Chicago
BEGIN:DAYLIGHT
TZOFFSETFROM:-0600
TZOFFSETTO:-0500
TZNAME:CDT
DTSTART:20210314T080000
END:DAYLIGHT
BEGIN:STANDARD
TZOFFSETFROM:-0500
TZOFFSETTO:-0600
TZNAME:CST
DTSTART:20211107T070000
END:STANDARD
BEGIN:DAYLIGHT
TZOFFSETFROM:-0600
TZOFFSETTO:-0500
TZNAME:CDT
DTSTART:20220313T080000
END:DAYLIGHT
BEGIN:STANDARD
TZOFFSETFROM:-0500
TZOFFSETTO:-0600
TZNAME:CST
DTSTART:20221106T070000
END:STANDARD
BEGIN:DAYLIGHT
TZOFFSETFROM:-0600
TZOFFSETTO:-0500
TZNAME:CDT
DTSTART:20230312T080000
END:DAYLIGHT
BEGIN:STANDARD
TZOFFSETFROM:-0500
TZOFFSETTO:-0600
TZNAME:CST
DTSTART:20231105T070000
END:STANDARD
BEGIN:DAYLIGHT
TZOFFSETFROM:-0600
TZOFFSETTO:-0500
TZNAME:CDT
DTSTART:20240310T080000
END:DAYLIGHT
BEGIN:STANDARD
TZOFFSETFROM:-0500
TZOFFSETTO:-0600
TZNAME:CST
DTSTART:20241103T070000
END:STANDARD
END:VTIMEZONE
BEGIN:VEVENT
DTSTART;TZID=America/Chicago:20230114T100000
DTEND;TZID=America/Chicago:20230114T100000
DTSTAMP:20260423T100305
CREATED:20230111T203131Z
LAST-MODIFIED:20230113T195128Z
UID:880-1673690400-1673690400@tinasweettpihl.com
SUMMARY:Campaign Launch Weekend
DESCRIPTION:Tina “Sweet-T” Pihl Community Alderwoman Campaign Launch Weekend \nOur world\, our nation\, and our city are at the crossroads of change. \nAlderwoman Tina “Sweet-T” Pihl has invited you to the crossroads of the New 9th Ward to ask the Dr. Martin Luther King Question: Where Do We Go From Here? \n 
URL:https://tinasweettpihl.com/event/tina-sweet-t-pihl-community-alderwoman-campaign-launch-weekend/
LOCATION:City Foundry STL\, 3730 Foundry Way\, St. Louis\, MO\, 63110\, United States
ATTACH;FMTTYPE=image/jpeg:https://tinasweettpihl.com/wp-content/uploads/2023/01/Campaign-Kick-Off-Ad-scaled.jpg
END:VEVENT
BEGIN:VEVENT
DTSTART;TZID=America/Chicago:20230111T183000
DTEND;TZID=America/Chicago:20230111T194500
DTSTAMP:20260423T100305
CREATED:20230111T201759Z
LAST-MODIFIED:20230111T204258Z
UID:877-1673461800-1673466300@tinasweettpihl.com
SUMMARY:17th (New 9th) Ward Meeting
DESCRIPTION:Agenda: \n\nNew 9th Ward\nTenant Bill of Rights\nAirBNBs\nUnhoused\n\nWith guest Alderwoman Christine Ingrassia
URL:https://tinasweettpihl.com/event/17th-new-9th-ward-meeting/
LOCATION:Claim Academy\, 4356 Lindell Blvd.\, 63108\, 4356 Lindell Blvd.\, St. Louis\, MO\, 63108\, United States
ATTACH;FMTTYPE=image/jpeg:https://tinasweettpihl.com/wp-content/uploads/2023/01/Ward-Meeting-Flyer-1.jpg
END:VEVENT
BEGIN:VEVENT
DTSTART;TZID=America/Chicago:20221122T190000
DTEND;TZID=America/Chicago:20221122T203000
DTSTAMP:20260423T100305
CREATED:20220909T021122Z
LAST-MODIFIED:20221019T172759Z
UID:699-1669143600-1669149000@tinasweettpihl.com
SUMMARY:FPSE Development Review Committee
DESCRIPTION:Details TBA
URL:https://tinasweettpihl.com/event/fpse-development-review-committee-3/
LOCATION:MO
ATTACH;FMTTYPE=image/jpeg:https://tinasweettpihl.com/wp-content/uploads/2022/07/FPSE-DC-Application-Flyer-Final-scaled.jpg
END:VEVENT
BEGIN:VEVENT
DTSTART;TZID=America/Chicago:20221025T190000
DTEND;TZID=America/Chicago:20221025T203000
DTSTAMP:20260423T100305
CREATED:20220909T021023Z
LAST-MODIFIED:20221019T172602Z
UID:697-1666724400-1666729800@tinasweettpihl.com
SUMMARY:FPSE Development Review Committee
DESCRIPTION:Details TBA
URL:https://tinasweettpihl.com/event/fpse-development-review-committee-2/
LOCATION:MO
ATTACH;FMTTYPE=image/jpeg:https://tinasweettpihl.com/wp-content/uploads/2022/07/FPSE-DC-Application-Flyer-Final-scaled.jpg
END:VEVENT
BEGIN:VEVENT
DTSTART;TZID=America/Chicago:20221024T183000
DTEND;TZID=America/Chicago:20221024T200000
DTSTAMP:20260423T100305
CREATED:20221019T163118Z
LAST-MODIFIED:20221019T165126Z
UID:819-1666636200-1666641600@tinasweettpihl.com
SUMMARY:Public Forum in the 17th Ward Discussing the Pros and Cons of Tax Incentives
DESCRIPTION:Please come to this event on Monday\, October 24 (see below). A national expert is coming to STL to speak about tax incentives to the public. We are looking to pack the auditorium at Adam’s Elementary School.
URL:https://tinasweettpihl.com/event/public-forum-in-the-17th-ward-discussing-the-pros-and-cons-of-tax-incentives/
LOCATION:Adams Elementary School\, 1311 Tower Grove Ave\, St. Louis\, MO\, 63110\, United States
ATTACH;FMTTYPE=image/png:https://tinasweettpihl.com/wp-content/uploads/2022/10/tax-incent-public-forum-thumbnail.png
END:VEVENT
BEGIN:VEVENT
DTSTART;TZID=America/Chicago:20221022T100000
DTEND;TZID=America/Chicago:20221022T150000
DTSTAMP:20260423T100305
CREATED:20220928T131050Z
LAST-MODIFIED:20221019T172106Z
UID:795-1666432800-1666450800@tinasweettpihl.com
SUMMARY:Domestic Violence Awareness Rally & Walk in the Grove
DESCRIPTION:On October 22\, 2022\, at 10am\, Diamond Diva Empowerment Foundation will host its 2nd Annual Domestic Violence Awareness Rally & Walk in The Grove Neighborhood of Saint Louis\, Missouri. \nTo register for the walk\, go to www.2def.org/rallywalk\, and either create/join a team\, register a group/family\, or register as vendor. \nDuring this year’s campaign\, our goal is to raise $50\,000.00 to aid women and children with adequate housing and to provide 2500 Love Packages™ to domestic violence survivors\, local shelters\, and safe houses. \n \nDiamond Diva Empowerment Foundation (2DEF) is a nonprofit 501©3 organization dedicated to educating\, strengthening\, and empowering women and children affected by domestic violence and various socio-economic conditions. These conditions limit them from gaining and maintaining self-sufficiency which prevents them from being successful and impacting members of our community.\n \nFor more information about Diamond Diva Empowerment Foundation and the services we provide\, please visit www.2def.org/summary. 
URL:https://tinasweettpihl.com/event/domestic-violence-awareness-rally-walk-in-the-grove/
LOCATION:Chroma Plaza\, 4041 Chouteau Ave\, Saint Louis\, MO\, 63110\, United States
ATTACH;FMTTYPE=image/jpeg:https://tinasweettpihl.com/wp-content/uploads/2022/09/Rallywalkpostcard2022Big-1.jpg
ORGANIZER;CN="Diamond Diva":MAILTO:Office@2def.org
END:VEVENT
BEGIN:VEVENT
DTSTART;TZID=America/Chicago:20221012T183000
DTEND;TZID=America/Chicago:20221012T193000
DTSTAMP:20260423T100305
CREATED:20220909T020126Z
LAST-MODIFIED:20221012T200119Z
UID:692-1665599400-1665603000@tinasweettpihl.com
SUMMARY:17th Ward Meeting - October
DESCRIPTION:Ward Updates & Listening Session
URL:https://tinasweettpihl.com/event/october-17th-ward-meeting/
LOCATION:Claim Academy\, 4356 Lindell Blvd.\, 63108\, 4356 Lindell Blvd.\, St. Louis\, MO\, 63108\, United States
ATTACH;FMTTYPE=image/png:https://tinasweettpihl.com/wp-content/uploads/2022/09/17th-Ward-Mtg.-Oct-4.png
END:VEVENT
BEGIN:VEVENT
DTSTART;TZID=America/Chicago:20221009T150000
DTEND;TZID=America/Chicago:20221009T163000
DTSTAMP:20260423T100305
CREATED:20221003T174412Z
LAST-MODIFIED:20221003T174412Z
UID:811-1665327600-1665333000@tinasweettpihl.com
SUMMARY:STL Look Up & Live
DESCRIPTION:An opportunity to engage with elected officials and other public figures and citizens in a conversation about issues facing our communities. \n \n(See below for complete flyer)
URL:https://tinasweettpihl.com/event/stl-look-up-live/
LOCATION:Centennial Christian Church\, 4950 Fountain Ave.\, St. Louis\, MO\, 63113\, United States
ATTACH;FMTTYPE=image/png:https://tinasweettpihl.com/wp-content/uploads/2022/10/10.9.22-LOOK-UP-AND-LIVE-PM-FLYER-cropped.png
END:VEVENT
BEGIN:VEVENT
DTSTART;TZID=America/Chicago:20221008T160000
DTEND;TZID=America/Chicago:20221008T190000
DTSTAMP:20260423T100305
CREATED:20220922T162808Z
LAST-MODIFIED:20221003T173127Z
UID:785-1665244800-1665255600@tinasweettpihl.com
SUMMARY:Experience Steinberg Reimagined!
DESCRIPTION:A demonstration of year-round programming and activities recommended by the public\, preliminary design concept of Steinberg Pavilion\, and an opportunity for additional public feedback. \n \n(See link below for complete flyer and option to attend virtually) \nSteinberg Open House Flyer
URL:https://tinasweettpihl.com/event/experience-steinberg-reimagined/
LOCATION:MO
ATTACH;FMTTYPE=image/png:https://tinasweettpihl.com/wp-content/uploads/2022/09/Screenshot-2022-09-22-11.26.43.png
END:VEVENT
BEGIN:VEVENT
DTSTART;TZID=America/Chicago:20221004T170000
DTEND;TZID=America/Chicago:20221004T190000
DTSTAMP:20260423T100305
CREATED:20220922T160105Z
LAST-MODIFIED:20220922T163306Z
UID:778-1664902800-1664910000@tinasweettpihl.com
SUMMARY:National Night Out in the Botanical Heights
DESCRIPTION:Meet your neighbors and representatives over food\, drink and games! At Blaine\, Thurman\, and Fulsom avenues (the community garden\, playground\, and green space) \n 
URL:https://tinasweettpihl.com/event/national-night-out-in-the-botanical-heights/
LOCATION:MO
ATTACH;FMTTYPE=image/png:https://tinasweettpihl.com/wp-content/uploads/2022/09/download-1-e1663864904977.png
END:VEVENT
BEGIN:VEVENT
DTSTART;VALUE=DATE:20221004
DTEND;VALUE=DATE:20221005
DTSTAMP:20260423T100305
CREATED:20220930T193122Z
LAST-MODIFIED:20220930T193521Z
UID:807-1664841600-1664927999@tinasweettpihl.com
SUMMARY:Bi-State Survey
DESCRIPTION:Help BSD Improve its Culture and Customer Experience with this survey\, complete by Tuesday\, October 4th. \nSurvey Link
URL:https://tinasweettpihl.com/event/bi-state-survey/
LOCATION:MO
END:VEVENT
BEGIN:VEVENT
DTSTART;TZID=America/Chicago:20220927T190000
DTEND;TZID=America/Chicago:20220927T203000
DTSTAMP:20260423T100305
CREATED:20220909T020857Z
LAST-MODIFIED:20220909T020857Z
UID:695-1664305200-1664310600@tinasweettpihl.com
SUMMARY:FPSE Development Review Committee
DESCRIPTION:Details TBA
URL:https://tinasweettpihl.com/event/fpse-development-review-committee/
LOCATION:MO
ATTACH;FMTTYPE=image/jpeg:https://tinasweettpihl.com/wp-content/uploads/2022/07/FPSE-DC-Application-Flyer-Final-scaled.jpg
END:VEVENT
BEGIN:VEVENT
DTSTART;TZID=America/Chicago:20220914T183000
DTEND;TZID=America/Chicago:20220914T193000
DTSTAMP:20260423T100305
CREATED:20220826T121519Z
LAST-MODIFIED:20220909T021232Z
UID:672-1663180200-1663183800@tinasweettpihl.com
SUMMARY:17th Ward Meeting - September
DESCRIPTION:
URL:https://tinasweettpihl.com/event/17th-ward-meeting-2/
LOCATION:Claim Academy\, 4356 Lindell Blvd.\, 63108\, 4356 Lindell Blvd.\, St. Louis\, MO\, 63108\, United States
ATTACH;FMTTYPE=image/png:https://tinasweettpihl.com/wp-content/uploads/2022/08/Sept-2022-Ward-Mtg-flyer.png
END:VEVENT
BEGIN:VEVENT
DTSTART;TZID=America/Chicago:20220706T183000
DTEND;TZID=America/Chicago:20220706T193000
DTSTAMP:20260423T100305
CREATED:20220629T031353Z
LAST-MODIFIED:20220629T031353Z
UID:619-1657132200-1657135800@tinasweettpihl.com
SUMMARY:17th Ward Meeting
DESCRIPTION:
URL:https://tinasweettpihl.com/event/17th-ward-meeting/
LOCATION:CIC @ CET\, 20 S. Sarah Street\, St. Louis\, MO\, 63108\, United States
ATTACH;FMTTYPE=image/png:https://tinasweettpihl.com/wp-content/uploads/2022/06/17th-Ward-June-Mtg-flyer-final.png
END:VEVENT
BEGIN:VEVENT
DTSTART;TZID=America/Chicago:20220625T110000
DTEND;TZID=America/Chicago:20220625T160000
DTSTAMP:20260423T100305
CREATED:20220416T011948Z
LAST-MODIFIED:20220520T162259Z
UID:489-1656154800-1656172800@tinasweettpihl.com
SUMMARY:District 2 Community Day (Rescheduled)
DESCRIPTION:Rescheduled from 5/21 to 6/25 \nCome out and enjoy the afternoon with your local Neighborhood Police Officers. SLMPD Units Attending: Community Engagement\, Aviation\, Traffic Safety\, Bomb & Arson\, and more.
URL:https://tinasweettpihl.com/event/district-2-community-day/
LOCATION:3503 Bamberger Ave.\, 3503 Bamberger Ave.\, St. Louis\, MO\, United States
ATTACH;FMTTYPE=image/png:https://tinasweettpihl.com/wp-content/uploads/2022/03/2022-03-17-11_27_36-Community-Day-Flyer.png
END:VEVENT
BEGIN:VEVENT
DTSTART;TZID=America/Chicago:20220507T130000
DTEND;TZID=America/Chicago:20220507T160000
DTSTAMP:20260423T100305
CREATED:20220416T011625Z
LAST-MODIFIED:20220419T171626Z
UID:485-1651928400-1651939200@tinasweettpihl.com
SUMMARY:City Garden Montessori School’s Block Party
DESCRIPTION:City Garden Montessori School is hosting a community-wide Block Party on Saturday\, May 7\, 2022 from 1:00 to 4:00 PM. \nThe Block Party will serve as the Grand Opening of our new building at 4209 Folsom Avenue – City Garden Montessori’s brand new Elementary and Adolescent Education Center – serving first through eighth grade students. \nLast May City Garden hosted The Community Reveal – the Groundbreaking Ceremony for the Elementary and Adolescent Education Center. It was a pleasure to be joined by Mayor Tishaura O. Jones\, Alderwoman Tina “Sweet-T Pihl\,” Alderwoman Marlene Davis\, students\, families\, and community partners. \nRegistration is free\, but required! This year’s Block Party will feature food trucks from Five Aces BBQ\, Mothers on Wheels\, drinks\, family friendly activities\, student speakers\, and entertainment by Dre Dre & Coast\, featuring City Garden staff members Mr. Norman Williams III and Mr. Robert Nelson! \nDownload Block Party Flyer in PDF Format \nWebsite: https://www.citygardenschool.org/blockparty \n 
URL:https://tinasweettpihl.com/event/city-garden-montessori-schools-block-party/
LOCATION:Elementary and Adolescent Education Center\, 4209 Folsom Avenue\, St. Louis\, MO\, United States
ATTACH;FMTTYPE=application/pdf:https://tinasweettpihl.com/wp-content/uploads/2022/04/FLYER-FULL-730.02-KB.pdf
END:VEVENT
BEGIN:VEVENT
DTSTART;TZID=America/Chicago:20220430T130000
DTEND;TZID=America/Chicago:20220430T160000
DTSTAMP:20260423T100305
CREATED:20220423T014051Z
LAST-MODIFIED:20220423T014051Z
UID:605-1651323600-1651334400@tinasweettpihl.com
SUMMARY:17th Ward Opioid Crisis Community Listening Session
DESCRIPTION:Dear Community\, \nThe opioid crisis and the pervasiveness of fentanyl are of the most devastating public health crises of the 21st century and have significantly impacted our St. Louis Communities. \nOver the past three years\, there have been over 1100 overdoses in the St. Louis area. Our communities also feel the economic impact of the crisis. \nAlderwoman Tina “Sweet-T” Pihl\, State Rep. Kimberly-Ann Collins\, and the office of Congresswoman Cori Bush of Missouri’s First District are sponsoring a community listening session in the 17th Ward to hear how this crisis has affected you\, your family\, and your community. They want to listen to your ideas and your voices. \nOur goals are the following: \n\nHear and document community impact regarding the opioid and fentanyl crisis and the\nUse the information to work with local\, state\, and federal partners to address expressed needs and concerns\nHelp identify support for community members based on community input\nWork with community members and partners to develop and implement harm reduction plans based on community input\n\nThis meeting will be held in the Assembly at Innovation Hall (in the Cortex Complex) at 1220 Duncan Ave. St. Louis\, MO 63110\, from 1:00 pm – 4: 00 pm on April 30th. \nIn attendance will be: \n\nTina “Sweet-T” Pihl\, 17th Ward Alderwoman\nKimberly-Ann Collins – Missouri State Representative\, 77th District\nDanielle Spradley – Office of Congresswoman Cori Bush of Missouri’s First District\n\nThank you for your time\, and we look forward to seeing you there. \nPlease RSVP to join this important session: https://forms.gle/EyBWaBzufVWWPceTA \nFeel free to direct questions regarding this event to: \nAlderPihl.Intern.2@gmail.com \n 
URL:https://tinasweettpihl.com/event/17th-ward-opioid-crisis-community-listening-session/
LOCATION:Assembly in Innovation Hall\, 4220 Duncan Ave.\, St. Louis\, MO\, United States
ATTACH;FMTTYPE=image/jpeg:https://tinasweettpihl.com/wp-content/uploads/2022/04/Cortex-Listening-Session-Flyer.jpg
END:VEVENT
BEGIN:VEVENT
DTSTART;TZID=America/Chicago:20220427T180000
DTEND;TZID=America/Chicago:20220427T193000
DTSTAMP:20260423T100305
CREATED:20220416T003837Z
LAST-MODIFIED:20220416T005259Z
UID:473-1651082400-1651087800@tinasweettpihl.com
SUMMARY:Lindell / Kingshighway Development Presentation
DESCRIPTION:Albion West End is a 30 story\, 293-unit\, luxury apartment tower in the heart of St. Louis’ Central West End Neighborhood and just steps from some of the region’s best dining\, shops\, hotels\, universities\, hospitals and museums. \nZoom Link: https://bit.ly/3xq6mQO \nContact/Feedback/Questions: www.4974lindell.com
URL:https://tinasweettpihl.com/event/lindell-kingshighway-development-presentation/
LOCATION:St. Louis Public Library | Schlafly Branch\, 225 N Euclid Ave.\, St Louis\, MO\, United States
ATTACH;FMTTYPE=image/jpeg:https://tinasweettpihl.com/wp-content/uploads/2022/04/Mtg-2-Lindell-Kingshighway.jpg
END:VEVENT
BEGIN:VEVENT
DTSTART;TZID=America/Chicago:20220421T163000
DTEND;TZID=America/Chicago:20220421T180000
DTSTAMP:20260423T100305
CREATED:20220416T010807Z
LAST-MODIFIED:20220416T010935Z
UID:479-1650558600-1650564000@tinasweettpihl.com
SUMMARY:Office Hours
DESCRIPTION:Call 314-301-9868 or email pihLt@StLouis-MO.gov for more information.
URL:https://tinasweettpihl.com/event/office-hours/
LOCATION:City Greens Market\, 4260 Manchester Avenue\, St. Louis\, MO\, United States
ATTACH;FMTTYPE=image/jpeg:https://tinasweettpihl.com/wp-content/uploads/2022/04/April-Office-Hours-ST-1.jpg
END:VEVENT
BEGIN:VEVENT
DTSTART;TZID=America/Chicago:20220419T180000
DTEND;TZID=America/Chicago:20220419T193000
DTSTAMP:20260423T100305
CREATED:20220419T170653Z
LAST-MODIFIED:20220419T170827Z
UID:595-1650391200-1650396600@tinasweettpihl.com
SUMMARY:City of St. Louis - 2022 State of the City Address
DESCRIPTION:St. Louis city residents and community members are invited to attend the first State of the City Address of Mayor Tishaura Jones. \nDue to limited seating RSVP is required. Masks must be worn indoors. \nDoors will open for the public at 5:00 p.m. \nStream live on the city’s YouTube channel. \nEventbrite Link: https://stlstoc.eventbrite.com
URL:https://tinasweettpihl.com/event/city-of-st-louis-2022-state-of-the-city-address/
LOCATION:Henry Givens Administration Building\, Laclede Avenue\, St. Louis\, MO\, 63103\, United States
ATTACH;FMTTYPE=image/png:https://tinasweettpihl.com/wp-content/uploads/2022/04/State-of-the-CIty.png
END:VEVENT
END:VCALENDAR